Package: wpm Version: 1.20.0 Command: /Library/Frameworks/R.framework/Resources/bin/R CMD INSTALL wpm StartedAt: 2025-11-03 15:13:01 -0500 (Mon, 03 Nov 2025) EndedAt: 2025-11-03 15:13:03 -0500 (Mon, 03 Nov 2025) EllapsedTime: 2.1 seconds RetCode: 0 Status: OK