Package: wiggleplotr Version: 1.33.2 Command: /home/biocbuild/R/R/bin/R CMD INSTALL wiggleplotr StartedAt: 2025-10-23 20:48:01 -0000 (Thu, 23 Oct 2025) EndedAt: 2025-10-23 20:48:08 -0000 (Thu, 23 Oct 2025) EllapsedTime: 7.0 seconds RetCode: 0 Status: OK