Package: wiggleplotr Version: 1.33.2 Command: /home/biocbuild/R/R/bin/R CMD build --keep-empty-dirs --no-resave-data wiggleplotr StartedAt: 2025-10-21 04:05:35 -0000 (Tue, 21 Oct 2025) EndedAt: 2025-10-21 04:06:24 -0000 (Tue, 21 Oct 2025) EllapsedTime: 49.0 seconds RetCode: 0 Status: OK PackageFile: wiggleplotr_1.33.2.tar.gz PackageFileSize: 210 KiB