Package: wiggleplotr Version: 1.33.2 Command: /home/biocbuild/bbs-3.22-bioc/R/bin/R CMD check --install=check:wiggleplotr.install-out.txt --library=/home/biocbuild/bbs-3.22-bioc/R/site-library --timings wiggleplotr_1.33.2.tar.gz StartedAt: 2025-10-25 05:24:57 -0400 (Sat, 25 Oct 2025) EndedAt: 2025-10-25 05:26:44 -0400 (Sat, 25 Oct 2025) EllapsedTime: 107.1 seconds RetCode: 0 Status: OK CheckDir: wiggleplotr.Rcheck Warnings: 0