Package: wiggleplotr Version: 1.33.2 Command: /Library/Frameworks/R.framework/Resources/bin/R CMD INSTALL wiggleplotr StartedAt: 2025-10-26 15:14:13 -0400 (Sun, 26 Oct 2025) EndedAt: 2025-10-26 15:14:15 -0400 (Sun, 26 Oct 2025) EllapsedTime: 2.1 seconds RetCode: 0 Status: OK