Package: wiggleplotr Version: 1.34.0 Command: /Library/Frameworks/R.framework/Resources/bin/R CMD check --install=check:wiggleplotr.install-out.txt --library=/Library/Frameworks/R.framework/Resources/library --no-vignettes --timings wiggleplotr_1.34.0.tar.gz StartedAt: 2025-10-31 22:48:01 -0400 (Fri, 31 Oct 2025) EndedAt: 2025-10-31 22:48:37 -0400 (Fri, 31 Oct 2025) EllapsedTime: 35.4 seconds RetCode: 0 Status: OK CheckDir: wiggleplotr.Rcheck Warnings: 0