Package: wiggleplotr Version: 1.33.2 Command: /Library/Frameworks/R.framework/Resources/bin/R CMD build --keep-empty-dirs --no-resave-data wiggleplotr StartedAt: 2025-10-27 18:07:03 -0400 (Mon, 27 Oct 2025) EndedAt: 2025-10-27 18:07:17 -0400 (Mon, 27 Oct 2025) EllapsedTime: 14.2 seconds RetCode: 0 Status: OK PackageFile: wiggleplotr_1.33.2.tar.gz PackageFileSize: 402.6 KiB