Package: wiggleplotr Version: 1.33.2 Maintainer: Kaur Alasoo MaintainerEmail: kaur.alasoo at gmail.com git_url: https://git.bioconductor.org/packages/wiggleplotr git_branch: devel git_last_commit: c3f72f8 git_last_commit_date: 2025-10-13 07:46:09 -0400 (Mon, 13 Oct 2025)