Package: widgetTools Version: 1.87.0 Command: /home/biocbuild/R/R/bin/R CMD build --keep-empty-dirs --no-resave-data widgetTools StartedAt: 2025-10-21 04:05:26 -0000 (Tue, 21 Oct 2025) EndedAt: 2025-10-21 04:05:35 -0000 (Tue, 21 Oct 2025) EllapsedTime: 9.0 seconds RetCode: 0 Status: OK PackageFile: widgetTools_1.87.0.tar.gz PackageFileSize: 222.8 KiB