Package: widgetTools Version: 1.87.0 Command: /Library/Frameworks/R.framework/Resources/bin/R CMD INSTALL widgetTools StartedAt: 2025-10-27 15:04:57 -0400 (Mon, 27 Oct 2025) EndedAt: 2025-10-27 15:05:34 -0400 (Mon, 27 Oct 2025) EllapsedTime: 36.1 seconds RetCode: 0 Status: OK