Package: widgetTools Version: 1.87.0 Command: /Library/Frameworks/R.framework/Resources/bin/R CMD build --keep-empty-dirs --no-resave-data widgetTools StartedAt: 2025-10-24 19:13:48 -0400 (Fri, 24 Oct 2025) EndedAt: 2025-10-24 19:14:02 -0400 (Fri, 24 Oct 2025) EllapsedTime: 13.7 seconds RetCode: 0 Status: OK PackageFile: widgetTools_1.87.0.tar.gz PackageFileSize: 226.8 KiB