Package: widgetTools Version: 1.87.0 Command: rm -rf widgetTools.buildbin-libdir && mkdir widgetTools.buildbin-libdir && /Users/biocbuild/BBS/utils/build-universal.sh widgetTools_1.87.0.tar.gz /Library/Frameworks/R.framework/Resources/bin/R widgetTools.buildbin-libdir StartedAt: 2025-10-25 02:10:39 -0400 (Sat, 25 Oct 2025) EndedAt: 2025-10-25 02:10:49 -0400 (Sat, 25 Oct 2025) EllapsedTime: 10.3 seconds RetCode: 0 Status: OK PackageFile: widgetTools_1.87.0.tgz PackageFileSize: 448.7 KiB