Package: weitrix Version: 1.21.0 Command: /home/biocbuild/bbs-3.22-bioc/R/bin/R CMD INSTALL weitrix StartedAt: 2025-10-24 16:07:32 -0400 (Fri, 24 Oct 2025) EndedAt: 2025-10-24 16:08:00 -0400 (Fri, 24 Oct 2025) EllapsedTime: 27.9 seconds RetCode: 0 Status: OK