Package: weitrix Version: 1.22.0 Command: /home/biocbuild/bbs-3.22-bioc/R/bin/R CMD check --install=check:weitrix.install-out.txt --library=/home/biocbuild/bbs-3.22-bioc/R/site-library --timings weitrix_1.22.0.tar.gz StartedAt: 2025-11-01 05:30:04 -0400 (Sat, 01 Nov 2025) EndedAt: 2025-11-01 05:43:58 -0400 (Sat, 01 Nov 2025) EllapsedTime: 833.2 seconds RetCode: 0 Status: OK CheckDir: weitrix.Rcheck Warnings: 0