Package: weitrix Version: 1.21.0 Command: /home/biocbuild/bbs-3.22-bioc/R/bin/R CMD build --keep-empty-dirs --no-resave-data --md5 weitrix StartedAt: 2025-10-24 20:53:48 -0400 (Fri, 24 Oct 2025) EndedAt: 2025-10-24 21:02:22 -0400 (Fri, 24 Oct 2025) EllapsedTime: 513.7 seconds RetCode: 0 Status: OK PackageFile: weitrix_1.21.0.tar.gz PackageFileSize: 9.487 MiB