Package: weitrix Version: 1.22.0 Command: /Library/Frameworks/R.framework/Resources/bin/R CMD INSTALL weitrix StartedAt: 2025-10-29 22:31:49 -0400 (Wed, 29 Oct 2025) EndedAt: 2025-10-29 22:32:28 -0400 (Wed, 29 Oct 2025) EllapsedTime: 39.1 seconds RetCode: 0 Status: OK