Package: weitrix Version: 1.22.0 Command: /Library/Frameworks/R.framework/Resources/bin/R CMD build --keep-empty-dirs --no-resave-data weitrix StartedAt: 2025-10-30 01:53:10 -0400 (Thu, 30 Oct 2025) EndedAt: 2025-10-30 02:00:57 -0400 (Thu, 30 Oct 2025) EllapsedTime: 466.5 seconds RetCode: 0 Status: OK PackageFile: weitrix_1.22.0.tar.gz PackageFileSize: 8.967 MiB