Package: weitrix Version: 1.22.0 Command: rm -rf weitrix.buildbin-libdir && mkdir weitrix.buildbin-libdir && /Users/biocbuild/BBS/utils/build-universal.sh weitrix_1.22.0.tar.gz /Library/Frameworks/R.framework/Resources/bin/R weitrix.buildbin-libdir StartedAt: 2025-10-30 08:45:39 -0400 (Thu, 30 Oct 2025) EndedAt: 2025-10-30 08:46:28 -0400 (Thu, 30 Oct 2025) EllapsedTime: 49.0 seconds RetCode: 0 Status: OK PackageFile: weitrix_1.22.0.tgz PackageFileSize: 9.252 MiB