Package: weitrix Version: 1.21.0 Command: /Library/Frameworks/R.framework/Resources/bin/R CMD build --keep-empty-dirs --no-resave-data weitrix StartedAt: 2025-10-27 18:07:00 -0400 (Mon, 27 Oct 2025) EndedAt: 2025-10-27 18:10:20 -0400 (Mon, 27 Oct 2025) EllapsedTime: 200.5 seconds RetCode: 0 Status: OK PackageFile: weitrix_1.21.0.tar.gz PackageFileSize: 8.971 MiB