Package: weitrix Version: 1.22.0 Maintainer: Paul Harrison MaintainerEmail: paul.harrison at monash.edu git_url: https://git.bioconductor.org/packages/weitrix git_branch: RELEASE_3_22 git_last_commit: 46b4f6c git_last_commit_date: 2025-10-29 10:59:24 -0500 (Wed, 29 Oct 2025)