Package: webbioc Version: 1.81.0 Command: /home/biocbuild/R/R/bin/R CMD INSTALL webbioc StartedAt: 2025-10-23 21:08:55 -0000 (Thu, 23 Oct 2025) EndedAt: 2025-10-23 21:09:25 -0000 (Thu, 23 Oct 2025) EllapsedTime: 31.0 seconds RetCode: 0 Status: OK