Package: webbioc Version: 1.81.0 Command: /home/biocbuild/R/R/bin/R CMD build --keep-empty-dirs --no-resave-data webbioc StartedAt: 2025-10-21 04:05:08 -0000 (Tue, 21 Oct 2025) EndedAt: 2025-10-21 04:05:42 -0000 (Tue, 21 Oct 2025) EllapsedTime: 34.0 seconds RetCode: 0 Status: OK PackageFile: webbioc_1.81.0.tar.gz PackageFileSize: 302.5 KiB