Package: webbioc Version: 1.81.0 Command: /Library/Frameworks/R.framework/Resources/bin/R CMD check --install=check:webbioc.install-out.txt --library=/Library/Frameworks/R.framework/Resources/library --no-vignettes --timings webbioc_1.81.0.tar.gz StartedAt: 2025-10-26 22:18:51 -0400 (Sun, 26 Oct 2025) EndedAt: 2025-10-26 22:19:28 -0400 (Sun, 26 Oct 2025) EllapsedTime: 36.4 seconds RetCode: 0 Status: OK CheckDir: webbioc.Rcheck Warnings: 0