Package: weaver Version: 1.76.0 Command: /Library/Frameworks/R.framework/Resources/bin/R CMD INSTALL weaver StartedAt: 2025-11-02 15:17:28 -0500 (Sun, 02 Nov 2025) EndedAt: 2025-11-02 15:18:19 -0500 (Sun, 02 Nov 2025) EllapsedTime: 50.5 seconds RetCode: 0 Status: OK