Package: weaver Version: 1.76.0 Command: /Library/Frameworks/R.framework/Resources/bin/R CMD build --keep-empty-dirs --no-resave-data weaver StartedAt: 2025-11-02 19:16:37 -0500 (Sun, 02 Nov 2025) EndedAt: 2025-11-02 19:16:48 -0500 (Sun, 02 Nov 2025) EllapsedTime: 10.3 seconds RetCode: 0 Status: OK PackageFile: weaver_1.76.0.tar.gz PackageFileSize: 231.4 KiB