Package: weaver Version: 1.75.0 Command: /Library/Frameworks/R.framework/Resources/bin/R CMD INSTALL weaver StartedAt: 2025-10-24 15:06:38 -0400 (Fri, 24 Oct 2025) EndedAt: 2025-10-24 15:06:56 -0400 (Fri, 24 Oct 2025) EllapsedTime: 18.2 seconds RetCode: 0 Status: OK