Package: wavClusteR Version: 2.43.0 Command: /home/biocbuild/bbs-3.22-bioc/R/bin/R CMD INSTALL wavClusteR StartedAt: 2025-10-27 15:41:17 -0400 (Mon, 27 Oct 2025) EndedAt: 2025-10-27 15:41:55 -0400 (Mon, 27 Oct 2025) EllapsedTime: 38.5 seconds RetCode: 0 Status: OK