Package: wavClusteR Version: 2.43.0 Command: /home/biocbuild/bbs-3.22-bioc/R/bin/R CMD build --keep-empty-dirs --no-resave-data --md5 wavClusteR StartedAt: 2025-10-27 20:46:13 -0400 (Mon, 27 Oct 2025) EndedAt: 2025-10-27 20:47:15 -0400 (Mon, 27 Oct 2025) EllapsedTime: 62.0 seconds RetCode: 0 Status: OK PackageFile: wavClusteR_2.43.0.tar.gz PackageFileSize: 782.1 KiB