Package: wavClusteR Version: 2.44.0 Command: /Library/Frameworks/R.framework/Resources/bin/R CMD INSTALL wavClusteR StartedAt: 2025-11-10 15:20:38 -0500 (Mon, 10 Nov 2025) EndedAt: 2025-11-10 15:20:54 -0500 (Mon, 10 Nov 2025) EllapsedTime: 16.0 seconds RetCode: 0 Status: OK