Package: wavClusteR Version: 2.44.0 Command: rm -rf wavClusteR.buildbin-libdir && mkdir wavClusteR.buildbin-libdir && /Users/biocbuild/BBS/utils/build-universal.sh wavClusteR_2.44.0.tar.gz /Library/Frameworks/R.framework/Resources/bin/R wavClusteR.buildbin-libdir StartedAt: 2025-11-10 23:41:04 -0500 (Mon, 10 Nov 2025) EndedAt: 2025-11-10 23:41:20 -0500 (Mon, 10 Nov 2025) EllapsedTime: 16.4 seconds RetCode: 0 Status: OK PackageFile: wavClusteR_2.44.0.tgz PackageFileSize: 897.7 KiB