Package: wateRmelon Version: 2.15.0 Command: /home/biocbuild/bbs-3.22-bioc/R/bin/R CMD INSTALL wateRmelon StartedAt: 2025-10-24 16:12:09 -0400 (Fri, 24 Oct 2025) EndedAt: 2025-10-24 16:13:05 -0400 (Fri, 24 Oct 2025) EllapsedTime: 55.8 seconds RetCode: 0 Status: OK