Package: wateRmelon Version: 2.15.0 Command: /home/biocbuild/bbs-3.22-bioc/R/bin/R CMD build --keep-empty-dirs --no-resave-data --md5 wateRmelon StartedAt: 2025-10-24 20:53:23 -0400 (Fri, 24 Oct 2025) EndedAt: 2025-10-24 20:54:51 -0400 (Fri, 24 Oct 2025) EllapsedTime: 88.1 seconds RetCode: 0 Status: OK PackageFile: wateRmelon_2.15.0.tar.gz PackageFileSize: 3.334 MiB