Package: waddR Version: 1.23.0 Command: /home/biocbuild/bbs-3.22-bioc/R/bin/R CMD build --keep-empty-dirs --no-resave-data --md5 waddR StartedAt: 2025-10-24 20:53:19 -0400 (Fri, 24 Oct 2025) EndedAt: 2025-10-24 20:54:59 -0400 (Fri, 24 Oct 2025) EllapsedTime: 100.1 seconds RetCode: 0 Status: OK PackageFile: waddR_1.23.0.tar.gz PackageFileSize: 153.8 KiB