Package: vsclust Version: 1.11.2 Command: /home/biocbuild/bbs-3.22-bioc/R/bin/R CMD INSTALL vsclust StartedAt: 2025-10-24 15:58:14 -0400 (Fri, 24 Oct 2025) EndedAt: 2025-10-24 15:58:57 -0400 (Fri, 24 Oct 2025) EllapsedTime: 42.9 seconds RetCode: 0 Status: OK