Package: vsclust Version: 1.11.2 Command: /home/biocbuild/bbs-3.22-bioc/R/bin/R CMD build --keep-empty-dirs --no-resave-data --md5 vsclust StartedAt: 2025-10-24 20:52:10 -0400 (Fri, 24 Oct 2025) EndedAt: 2025-10-24 20:55:12 -0400 (Fri, 24 Oct 2025) EllapsedTime: 182.1 seconds RetCode: 0 Status: OK PackageFile: vsclust_1.11.2.tar.gz PackageFileSize: 3.655 MiB