Package: vsclust Version: 1.12.0 Command: /Library/Frameworks/R.framework/Resources/bin/R CMD INSTALL vsclust StartedAt: 2025-11-02 15:25:09 -0500 (Sun, 02 Nov 2025) EndedAt: 2025-11-02 15:25:26 -0500 (Sun, 02 Nov 2025) EllapsedTime: 16.2 seconds RetCode: 0 Status: OK