Package: vsclust Version: 1.12.0 Command: /Library/Frameworks/R.framework/Resources/bin/R CMD build --keep-empty-dirs --no-resave-data vsclust StartedAt: 2025-11-02 18:06:43 -0500 (Sun, 02 Nov 2025) EndedAt: 2025-11-02 18:07:45 -0500 (Sun, 02 Nov 2025) EllapsedTime: 61.7 seconds RetCode: 0 Status: OK PackageFile: vsclust_1.12.0.tar.gz PackageFileSize: 3.829 MiB