Package: vmrseq Version: 1.1.2 Command: /home/biocbuild/bbs-3.22-bioc/R/bin/R CMD INSTALL vmrseq StartedAt: 2025-10-24 15:52:36 -0400 (Fri, 24 Oct 2025) EndedAt: 2025-10-24 15:53:18 -0400 (Fri, 24 Oct 2025) EllapsedTime: 41.5 seconds RetCode: 0 Status: OK