Package: vmrseq Version: 1.1.2 Command: /home/biocbuild/bbs-3.22-bioc/R/bin/R CMD build --keep-empty-dirs --no-resave-data --md5 vmrseq StartedAt: 2025-10-24 20:51:22 -0400 (Fri, 24 Oct 2025) EndedAt: 2025-10-24 20:52:43 -0400 (Fri, 24 Oct 2025) EllapsedTime: 81.0 seconds RetCode: 0 Status: OK PackageFile: vmrseq_1.1.2.tar.gz PackageFileSize: 2.985 MiB