Package: vissE Version: 1.17.0 Command: /home/biocbuild/bbs-3.22-bioc/R/bin/R CMD INSTALL vissE StartedAt: 2025-10-24 15:49:07 -0400 (Fri, 24 Oct 2025) EndedAt: 2025-10-24 15:49:12 -0400 (Fri, 24 Oct 2025) EllapsedTime: 4.9 seconds RetCode: 0 Status: OK