Package: visiumStitched Version: 1.2.0 Command: /home/biocbuild/bbs-3.22-bioc/R/bin/R CMD INSTALL visiumStitched StartedAt: 2025-11-16 16:01:49 -0500 (Sun, 16 Nov 2025) EndedAt: 2025-11-16 16:02:47 -0500 (Sun, 16 Nov 2025) EllapsedTime: 57.7 seconds RetCode: 0 Status: OK