Package: viper Version: 1.43.0 Command: /home/biocbuild/bbs-3.22-bioc/R/bin/R CMD INSTALL viper StartedAt: 2025-10-24 15:23:50 -0400 (Fri, 24 Oct 2025) EndedAt: 2025-10-24 15:24:04 -0400 (Fri, 24 Oct 2025) EllapsedTime: 13.8 seconds RetCode: 0 Status: OK