Package: variancePartition Version: 1.39.3 Command: /home/biocbuild/R/R/bin/R CMD INSTALL variancePartition StartedAt: 2025-10-23 20:30:33 -0000 (Thu, 23 Oct 2025) EndedAt: 2025-10-23 20:31:03 -0000 (Thu, 23 Oct 2025) EllapsedTime: 29.6 seconds RetCode: 0 Status: OK