Package: variancePartition Version: 1.39.3 Command: /home/biocbuild/R/R/bin/R CMD build --keep-empty-dirs --no-resave-data variancePartition StartedAt: 2025-10-21 03:58:14 -0000 (Tue, 21 Oct 2025) EndedAt: 2025-10-21 04:15:56 -0000 (Tue, 21 Oct 2025) EllapsedTime: 1061.9 seconds RetCode: 0 Status: OK PackageFile: variancePartition_1.39.3.tar.gz PackageFileSize: 4.083 MiB