Package: variancePartition Version: 1.39.3 Command: /home/biocbuild/bbs-3.22-bioc/R/bin/R CMD check --install=check:variancePartition.install-out.txt --library=/home/biocbuild/bbs-3.22-bioc/R/site-library --timings variancePartition_1.39.3.tar.gz StartedAt: 2025-10-25 05:16:14 -0400 (Sat, 25 Oct 2025) EndedAt: 2025-10-25 05:36:12 -0400 (Sat, 25 Oct 2025) EllapsedTime: 1198.0 seconds RetCode: 0 Status: OK CheckDir: variancePartition.Rcheck Warnings: 0