Package: variancePartition Version: 1.39.3 Command: /Library/Frameworks/R.framework/Resources/bin/R CMD INSTALL variancePartition StartedAt: 2025-10-26 15:06:45 -0400 (Sun, 26 Oct 2025) EndedAt: 2025-10-26 15:06:53 -0400 (Sun, 26 Oct 2025) EllapsedTime: 8.0 seconds RetCode: 0 Status: OK