Package: variancePartition Version: 1.39.3 Command: /Library/Frameworks/R.framework/Resources/bin/R CMD check --install=check:variancePartition.install-out.txt --library=/Library/Frameworks/R.framework/Resources/library --no-vignettes --timings variancePartition_1.39.3.tar.gz StartedAt: 2025-10-26 22:15:55 -0400 (Sun, 26 Oct 2025) EndedAt: 2025-10-26 22:18:51 -0400 (Sun, 26 Oct 2025) EllapsedTime: 176.1 seconds RetCode: 0 Status: OK CheckDir: variancePartition.Rcheck Warnings: 0