Package: variancePartition Version: 1.39.3 Command: /Library/Frameworks/R.framework/Resources/bin/R CMD build --keep-empty-dirs --no-resave-data variancePartition StartedAt: 2025-10-26 18:18:27 -0400 (Sun, 26 Oct 2025) EndedAt: 2025-10-26 18:22:28 -0400 (Sun, 26 Oct 2025) EllapsedTime: 241.6 seconds RetCode: 0 Status: OK PackageFile: variancePartition_1.39.3.tar.gz PackageFileSize: 4.985 MiB