Package: updateObject Version: 1.13.0 Command: /Library/Frameworks/R.framework/Resources/bin/R CMD build --keep-empty-dirs --no-resave-data updateObject StartedAt: 2025-10-24 19:10:10 -0400 (Fri, 24 Oct 2025) EndedAt: 2025-10-24 19:10:37 -0400 (Fri, 24 Oct 2025) EllapsedTime: 26.3 seconds RetCode: 0 Status: OK PackageFile: updateObject_1.13.0.tar.gz PackageFileSize: 1.289 MiB