Package: unifiedWMWqPCR Version: 1.45.0 Command: /home/biocbuild/R/R/bin/R CMD INSTALL unifiedWMWqPCR StartedAt: 2025-10-23 20:30:18 -0000 (Thu, 23 Oct 2025) EndedAt: 2025-10-23 20:30:24 -0000 (Thu, 23 Oct 2025) EllapsedTime: 6.6 seconds RetCode: 0 Status: OK